View In:
ArcGIS JavaScript
ArcGIS Online Map Viewer
ArcGIS Earth
Service Description: Gällande detaljplaner i Jokkmokks kommun. För översikt och tolkning till digitala planer. Planerna är georefererade, inpassade till digital karta utifrån scannade kartoriginal. Syftet är att ge en överblick och förstå hur planerna passar i geografin.
OBS! Det går inte använda dessa planer för t.ex. inmätning och utsättning. Felmarginalen i både grundkarta ocgh inpassning av plankartor varierar och saknar tillräclkig precision för annat än översikt.
Name: Detaljplaner/sde_jokkmokk_GNG_Detaljplaner_raster_2021_01_210715
Description: Gällande detaljplaner i Jokkmokks kommun. För översikt och tolkning till digitala planer. Planerna är georefererade, inpassade till digital karta utifrån scannade kartoriginal. Syftet är att ge en överblick och förstå hur planerna passar i geografin.
OBS! Det går inte använda dessa planer för t.ex. inmätning och utsättning. Felmarginalen i både grundkarta ocgh inpassning av plankartor varierar och saknar tillräclkig precision för annat än översikt.
Single Fused Map Cache: false
Extent:
XMin: 39089.70265158412
YMin: 7327959.780046287
XMax: 178305.75450551708
YMax: 7436226.139840874
Spatial Reference: 3016
(3016)
LatestVCSWkid(0)
Initial Extent:
XMin: 39089.70265158412
YMin: 7327959.780046287
XMax: 178305.75450551708
YMax: 7436226.139840874
Spatial Reference: 3016
(3016)
LatestVCSWkid(0)
Full Extent:
XMin: 39089.70265158412
YMin: 7327959.780046287
XMax: 178305.75450551708
YMax: 7436226.139840874
Spatial Reference: 3016
(3016)
LatestVCSWkid(0)
Pixel Size X: 0.2009159264575664
Pixel Size Y: 0.2009159264574863
Band Count: 3
Pixel Type: U16
RasterFunction Infos: {"rasterFunctionInfos": [{
"name": "None",
"description": "",
"help": ""
}]}
Mensuration Capabilities: Basic
Inspection Capabilities:
Has Histograms: true
Has Colormap: false
Has Multi Dimensions : false
Rendering Rule:
Min Scale: 0
Max Scale: 0
Copyright Text: Jokkmokks kommun
Service Data Type: esriImageServiceDataTypeGeneric
Min Values: 0, 0, 0
Max Values: 255, 255, 255
Mean Values: 194.73188649137848, 202.34397944759175, 191.3943400967972
Standard Deviation Values: 61.617187203472625, 60.12452280107956, 63.33321029595627
Object ID Field:
Fields:
None
Default Mosaic Method: Center
Allowed Mosaic Methods:
SortField:
SortValue: null
Mosaic Operator: First
Default Compression Quality: 75
Default Resampling Method: Bilinear
Max Record Count: null
Max Image Height: 4100
Max Image Width: 15000
Max Download Image Count: null
Max Mosaic Image Count: null
Allow Raster Function: true
Allow Copy: true
Allow Analysis: true
Allow Compute TiePoints: false
Supports Statistics: false
Supports Advanced Queries: false
Use StandardizedQueries: true
Raster Type Infos:
Name: Raster Dataset
Description: Supports all ArcGIS Raster Datasets
Help:
Has Raster Attribute Table: false
Edit Fields Info: null
Ownership Based AccessControl For Rasters: null
Child Resources:
Info
Histograms
Statistics
Key Properties
Legend
Raster Function Infos
Supported Operations:
Export Image
Identify
Measure
Compute Histograms
Compute Statistics Histograms
Get Samples
Compute Class Statistics
Query Boundary
Compute Pixel Location
Compute Angles
Validate
Project